BEGIN:VCALENDAR
VERSION:2.0
PRODID:-//Oceanside Music | Parksville | Qualicum Beach B.C. Canada - ECPv6.15.20//NONSGML v1.0//EN
CALSCALE:GREGORIAN
METHOD:PUBLISH
X-WR-CALNAME:Oceanside Music | Parksville | Qualicum Beach B.C. Canada
X-ORIGINAL-URL:https://oceanside-music.ca
X-WR-CALDESC:Events for Oceanside Music | Parksville | Qualicum Beach B.C. Canada
REFRESH-INTERVAL;VALUE=DURATION:PT1H
X-Robots-Tag:noindex
X-PUBLISHED-TTL:PT1H
BEGIN:VTIMEZONE
TZID:America/Vancouver
BEGIN:DAYLIGHT
TZOFFSETFROM:-0800
TZOFFSETTO:-0700
TZNAME:PDT
DTSTART:20250309T100000
END:DAYLIGHT
BEGIN:STANDARD
TZOFFSETFROM:-0700
TZOFFSETTO:-0800
TZNAME:PST
DTSTART:20251102T090000
END:STANDARD
BEGIN:DAYLIGHT
TZOFFSETFROM:-0800
TZOFFSETTO:-0700
TZNAME:PDT
DTSTART:20260308T100000
END:DAYLIGHT
BEGIN:STANDARD
TZOFFSETFROM:-0700
TZOFFSETTO:-0800
TZNAME:PST
DTSTART:20261101T090000
END:STANDARD
BEGIN:DAYLIGHT
TZOFFSETFROM:-0800
TZOFFSETTO:-0700
TZNAME:PDT
DTSTART:20270314T100000
END:DAYLIGHT
BEGIN:STANDARD
TZOFFSETFROM:-0700
TZOFFSETTO:-0800
TZNAME:PST
DTSTART:20271107T090000
END:STANDARD
END:VTIMEZONE
BEGIN:VEVENT
DTSTART;TZID=America/Vancouver:20260513T190000
DTEND;TZID=America/Vancouver:20260513T200000
DTSTAMP:20260423T075513
CREATED:20250928T134418Z
LAST-MODIFIED:20260422T183926Z
UID:10000158-1778698800-1778702400@oceanside-music.ca
SUMMARY:Annual General Meeting
DESCRIPTION:Open to Members of Oceanside Music Association only.  \nOceanside Music Association hosts its Annual General Meeting. Join us to learn about the Association’s activities\, accomplishments and finances for the past fiscal year. Elections will be held for the Board’s executive positions of President\, Vice President\, Treasurer\, Director of Marketing & Communications and Secretary. Voting open to existing Members of the Association only. \nWhen: Wednesday May 13th\, 2026\nStart Time: 7pm\nWhere: Arbutus Grove Church\, 170 Hirst Avenue\, West\, Parksville \nREGISTRATION REQUIRED. \nOnline https://app.ticketowl.io/o/Z8XvFQ7yELGXvyTD/event/aeeELGDe1hpWI0fz\nOR\nEmail marketing@oceanside-music.ca or 250 594 4755 (message) \n  \n  \n  \n 
URL:https://oceanside-music.ca/event/annual-general-meeting/
LOCATION:Arbutus Grove Church\, 170 Hirst Avenue\, West\, Parksville\, British Columbia\, V9P 0H7\, Canada
ATTACH;FMTTYPE=image/png:https://oceanside-music.ca/wp-content/uploads/Oceanside-Music-Logo-Hor-Color-scaled.png
END:VEVENT
END:VCALENDAR